Package: EGSEA123 Version: 1.30.0 Command: /home/biocbuild/bbs-3.20-bioc/R/bin/R CMD INSTALL EGSEA123 StartedAt: 2025-04-03 11:13:20 -0400 (Thu, 03 Apr 2025) EndedAt: 2025-04-03 11:13:49 -0400 (Thu, 03 Apr 2025) EllapsedTime: 29.1 seconds RetCode: 0 Status: OK