Package: EGSEA123 Version: 1.30.0 Command: /Library/Frameworks/R.framework/Resources/bin/R CMD build --keep-empty-dirs --no-resave-data EGSEA123 StartedAt: 2025-02-11 13:10:39 -0500 (Tue, 11 Feb 2025) EndedAt: 2025-02-11 13:25:11 -0500 (Tue, 11 Feb 2025) EllapsedTime: 872.9 seconds RetCode: 0 Status: OK PackageFile: EGSEA123_1.30.0.tar.gz PackageFileSize: 2.083 MiB