Package: BP4RNAseq Version: 1.16.0 Command: /Library/Frameworks/R.framework/Resources/bin/R CMD INSTALL BP4RNAseq StartedAt: 2025-01-28 13:00:37 -0500 (Tue, 28 Jan 2025) EndedAt: 2025-01-28 13:00:48 -0500 (Tue, 28 Jan 2025) EllapsedTime: 11.0 seconds RetCode: 0 Status: OK