Package: BP4RNAseq Version: 1.16.0 Command: /Library/Frameworks/R.framework/Resources/bin/R CMD build --keep-empty-dirs --no-resave-data BP4RNAseq StartedAt: 2024-11-15 13:03:59 -0500 (Fri, 15 Nov 2024) EndedAt: 2024-11-15 13:04:10 -0500 (Fri, 15 Nov 2024) EllapsedTime: 11.4 seconds RetCode: 0 Status: OK PackageFile: BP4RNAseq_1.16.0.tar.gz PackageFileSize: 3.037 MiB