Package: yeastRNASeq Version: 0.44.0 Command: /home/biocbuild/bbs-3.20-bioc/R/bin/R CMD INSTALL yeastRNASeq StartedAt: 2025-04-01 10:55:48 -0400 (Tue, 01 Apr 2025) EndedAt: 2025-04-01 10:55:51 -0400 (Tue, 01 Apr 2025) EllapsedTime: 3.3 seconds RetCode: 0 Status: OK