Package: yeastRNASeq Version: 0.44.0 Command: /home/biocbuild/bbs-3.20-bioc/R/bin/R CMD build --keep-empty-dirs --no-resave-data yeastRNASeq StartedAt: 2025-04-01 11:41:09 -0400 (Tue, 01 Apr 2025) EndedAt: 2025-04-01 11:41:52 -0400 (Tue, 01 Apr 2025) EllapsedTime: 43.3 seconds RetCode: 0 Status: OK PackageFile: yeastRNASeq_0.44.0.tar.gz PackageFileSize: 306.9 MiB