Package: yeastExpData Version: 0.52.0 Command: /home/biocbuild/bbs-3.20-bioc/R/bin/R CMD INSTALL yeastExpData StartedAt: 2025-02-13 10:56:26 -0500 (Thu, 13 Feb 2025) EndedAt: 2025-02-13 10:56:32 -0500 (Thu, 13 Feb 2025) EllapsedTime: 5.3 seconds RetCode: 0 Status: OK