Package: xcoredata Version: 1.10.0 Command: /home/biocbuild/bbs-3.20-bioc/R/bin/R CMD INSTALL xcoredata StartedAt: 2025-02-06 10:57:34 -0500 (Thu, 06 Feb 2025) EndedAt: 2025-02-06 10:57:47 -0500 (Thu, 06 Feb 2025) EllapsedTime: 12.7 seconds RetCode: 0 Status: OK