Package: xcoredata Version: 1.10.0 Command: /home/biocbuild/bbs-3.20-bioc/R/bin/R CMD check --install=check:xcoredata.install-out.txt --library=/home/biocbuild/bbs-3.20-bioc/R/site-library --timings xcoredata_1.10.0.tar.gz StartedAt: 2025-02-06 12:50:26 -0500 (Thu, 06 Feb 2025) EndedAt: 2025-02-06 12:55:05 -0500 (Thu, 06 Feb 2025) EllapsedTime: 278.8 seconds RetCode: 0 Status: OK CheckDir: xcoredata.Rcheck Warnings: 0