Package: tximportData Version: 1.34.0 Command: /home/biocbuild/bbs-3.20-bioc/R/bin/R CMD check --install=check:tximportData.install-out.txt --library=/home/biocbuild/bbs-3.20-bioc/R/site-library --timings tximportData_1.34.0.tar.gz StartedAt: 2025-01-30 12:51:27 -0500 (Thu, 30 Jan 2025) EndedAt: 2025-01-30 12:51:55 -0500 (Thu, 30 Jan 2025) EllapsedTime: 28.6 seconds RetCode: 0 Status: OK CheckDir: tximportData.Rcheck Warnings: 0