Package: tissueTreg Version: 1.26.0 Command: /home/biocbuild/bbs-3.20-bioc/R/bin/R CMD INSTALL tissueTreg StartedAt: 2025-02-06 10:55:27 -0500 (Thu, 06 Feb 2025) EndedAt: 2025-02-06 10:55:29 -0500 (Thu, 06 Feb 2025) EllapsedTime: 1.9 seconds RetCode: 0 Status: OK