Package: tissueTreg Version: 1.26.0 Command: /home/biocbuild/bbs-3.20-bioc/R/bin/R CMD build --keep-empty-dirs --no-resave-data tissueTreg StartedAt: 2025-01-30 11:41:51 -0500 (Thu, 30 Jan 2025) EndedAt: 2025-01-30 11:43:29 -0500 (Thu, 30 Jan 2025) EllapsedTime: 98.3 seconds RetCode: 0 Status: OK PackageFile: tissueTreg_1.26.0.tar.gz PackageFileSize: 684.6 KiB