Package: tissueTreg Version: 1.26.0 Maintainer: Charles Imbusch MaintainerEmail: c.imbusch at dkfz.de git_url: https://git.bioconductor.org/packages/tissueTreg git_branch: RELEASE_3_20 git_last_commit: c2e0239 git_last_commit_date: 2024-10-29 09:48:12 -0500 (Tue, 29 Oct 2024)