Package: seqc Version: 1.40.0 Command: /home/biocbuild/bbs-3.20-bioc/R/bin/R CMD check --install=check:seqc.install-out.txt --library=/home/biocbuild/bbs-3.20-bioc/R/site-library --timings seqc_1.40.0.tar.gz StartedAt: 2025-04-01 12:35:25 -0400 (Tue, 01 Apr 2025) EndedAt: 2025-04-01 12:36:36 -0400 (Tue, 01 Apr 2025) EllapsedTime: 71.4 seconds RetCode: 0 Status: WARNINGS CheckDir: seqc.Rcheck Warnings: 1