Package: scTHI.data Version: 1.18.0 Command: /home/biocbuild/bbs-3.20-bioc/R/bin/R CMD INSTALL scTHI.data StartedAt: 2025-02-06 10:55:20 -0500 (Thu, 06 Feb 2025) EndedAt: 2025-02-06 10:55:28 -0500 (Thu, 06 Feb 2025) EllapsedTime: 8.0 seconds RetCode: 0 Status: OK