Package: raerdata Version: 1.4.0 Command: /home/biocbuild/bbs-3.20-bioc/R/bin/R CMD INSTALL raerdata StartedAt: 2025-04-01 11:01:37 -0400 (Tue, 01 Apr 2025) EndedAt: 2025-04-01 11:02:11 -0400 (Tue, 01 Apr 2025) EllapsedTime: 33.8 seconds RetCode: 0 Status: OK