Package: qPLEXdata Version: 1.24.0 Command: /home/biocbuild/bbs-3.20-bioc/R/bin/R CMD build --keep-empty-dirs --no-resave-data qPLEXdata StartedAt: 2025-01-30 11:33:23 -0500 (Thu, 30 Jan 2025) EndedAt: 2025-01-30 11:34:32 -0500 (Thu, 30 Jan 2025) EllapsedTime: 69.1 seconds RetCode: 0 Status: OK PackageFile: qPLEXdata_1.24.0.tar.gz PackageFileSize: 11.7 MiB