Package: pumadata Version: 2.42.0 Command: /home/biocbuild/bbs-3.20-bioc/R/bin/R CMD INSTALL pumadata StartedAt: 2025-02-11 11:03:44 -0500 (Tue, 11 Feb 2025) EndedAt: 2025-02-11 11:04:13 -0500 (Tue, 11 Feb 2025) EllapsedTime: 29.7 seconds RetCode: 0 Status: OK