Package: pumadata Version: 2.42.0 Command: /home/biocbuild/bbs-3.20-bioc/R/bin/R CMD check --install=check:pumadata.install-out.txt --library=/home/biocbuild/bbs-3.20-bioc/R/site-library --timings pumadata_2.42.0.tar.gz StartedAt: 2025-04-01 12:27:06 -0400 (Tue, 01 Apr 2025) EndedAt: 2025-04-01 12:30:18 -0400 (Tue, 01 Apr 2025) EllapsedTime: 192.8 seconds RetCode: 0 Status: OK CheckDir: pumadata.Rcheck Warnings: 0