Package: pumadata Version: 2.42.0 Command: /home/biocbuild/bbs-3.20-bioc/R/bin/R CMD build --keep-empty-dirs --no-resave-data pumadata StartedAt: 2025-02-11 11:33:18 -0500 (Tue, 11 Feb 2025) EndedAt: 2025-02-11 11:34:02 -0500 (Tue, 11 Feb 2025) EllapsedTime: 44.4 seconds RetCode: 0 Status: OK PackageFile: pumadata_2.42.0.tar.gz PackageFileSize: 101.7 MiB