Package: ptairData Version: 1.14.0 Command: /home/biocbuild/bbs-3.20-bioc/R/bin/R CMD INSTALL ptairData StartedAt: 2025-04-01 10:56:00 -0400 (Tue, 01 Apr 2025) EndedAt: 2025-04-01 10:56:01 -0400 (Tue, 01 Apr 2025) EllapsedTime: 1.3 seconds RetCode: 0 Status: OK