Package: prostateCancerGrasso Version: 1.34.0 Command: /home/biocbuild/bbs-3.20-bioc/R/bin/R CMD build --keep-empty-dirs --no-resave-data prostateCancerGrasso StartedAt: 2025-01-30 11:32:55 -0500 (Thu, 30 Jan 2025) EndedAt: 2025-01-30 11:33:07 -0500 (Thu, 30 Jan 2025) EllapsedTime: 11.6 seconds RetCode: 0 Status: OK PackageFile: prostateCancerGrasso_1.34.0.tar.gz PackageFileSize: 25.25 MiB