Package: pepDat Version: 1.26.0 Command: /home/biocbuild/bbs-3.20-bioc/R/bin/R CMD INSTALL pepDat StartedAt: 2025-01-30 11:01:26 -0500 (Thu, 30 Jan 2025) EndedAt: 2025-01-30 11:01:34 -0500 (Thu, 30 Jan 2025) EllapsedTime: 7.7 seconds RetCode: 0 Status: OK