Package: pepDat Version: 1.26.0 Command: /home/biocbuild/bbs-3.20-bioc/R/bin/R CMD build --keep-empty-dirs --no-resave-data pepDat StartedAt: 2025-01-30 11:32:18 -0500 (Thu, 30 Jan 2025) EndedAt: 2025-01-30 11:32:33 -0500 (Thu, 30 Jan 2025) EllapsedTime: 15.3 seconds RetCode: 0 Status: OK PackageFile: pepDat_1.26.0.tar.gz PackageFileSize: 2.659 MiB