Package: pasillaBamSubset Version: 0.44.0 Command: /home/biocbuild/bbs-3.20-bioc/R/bin/R CMD build --keep-empty-dirs --no-resave-data pasillaBamSubset StartedAt: 2025-01-30 11:32:00 -0500 (Thu, 30 Jan 2025) EndedAt: 2025-01-30 11:32:03 -0500 (Thu, 30 Jan 2025) EllapsedTime: 3.0 seconds RetCode: 0 Status: OK PackageFile: pasillaBamSubset_0.44.0.tar.gz PackageFileSize: 15.01 MiB