Package: optimalFlowData Version: 1.18.0 Command: /home/biocbuild/bbs-3.20-bioc/R/bin/R CMD build --keep-empty-dirs --no-resave-data optimalFlowData StartedAt: 2025-01-30 11:31:34 -0500 (Thu, 30 Jan 2025) EndedAt: 2025-01-30 11:32:24 -0500 (Thu, 30 Jan 2025) EllapsedTime: 49.4 seconds RetCode: 0 Status: OK PackageFile: optimalFlowData_1.18.0.tar.gz PackageFileSize: 75.86 MiB