Package: oct4 Version: 1.22.0 Command: /home/biocbuild/bbs-3.20-bioc/R/bin/R CMD build --keep-empty-dirs --no-resave-data oct4 StartedAt: 2025-01-30 11:31:08 -0500 (Thu, 30 Jan 2025) EndedAt: 2025-01-30 11:31:22 -0500 (Thu, 30 Jan 2025) EllapsedTime: 14.6 seconds RetCode: 0 Status: OK PackageFile: oct4_1.22.0.tar.gz PackageFileSize: 192.9 MiB