Package: mvoutData Version: 1.42.0 Command: /home/biocbuild/bbs-3.20-bioc/R/bin/R CMD INSTALL mvoutData StartedAt: 2025-01-30 11:04:29 -0500 (Thu, 30 Jan 2025) EndedAt: 2025-01-30 11:05:02 -0500 (Thu, 30 Jan 2025) EllapsedTime: 33.3 seconds RetCode: 0 Status: OK