Package: muscData Version: 1.20.0 Command: /home/biocbuild/bbs-3.20-bioc/R/bin/R CMD INSTALL muscData StartedAt: 2025-01-30 11:01:43 -0500 (Thu, 30 Jan 2025) EndedAt: 2025-01-30 11:02:17 -0500 (Thu, 30 Jan 2025) EllapsedTime: 34.3 seconds RetCode: 0 Status: OK