Package: muscData Version: 1.20.0 Command: /home/biocbuild/bbs-3.20-bioc/R/bin/R CMD check --install=check:muscData.install-out.txt --library=/home/biocbuild/bbs-3.20-bioc/R/site-library --timings muscData_1.20.0.tar.gz StartedAt: 2025-02-06 12:23:30 -0500 (Thu, 06 Feb 2025) EndedAt: 2025-02-06 12:26:16 -0500 (Thu, 06 Feb 2025) EllapsedTime: 165.3 seconds RetCode: 0 Status: WARNINGS CheckDir: muscData.Rcheck Warnings: 1