Package: muscData Version: 1.20.0 Command: /home/biocbuild/bbs-3.20-bioc/R/bin/R CMD build --keep-empty-dirs --no-resave-data muscData StartedAt: 2025-01-30 11:30:18 -0500 (Thu, 30 Jan 2025) EndedAt: 2025-01-30 11:31:17 -0500 (Thu, 30 Jan 2025) EllapsedTime: 59.5 seconds RetCode: 0 Status: OK PackageFile: muscData_1.20.0.tar.gz PackageFileSize: 230.4 KiB