Package: muleaData Version: 1.2.0 Command: /home/biocbuild/bbs-3.20-bioc/R/bin/R CMD check --install=check:muleaData.install-out.txt --library=/home/biocbuild/bbs-3.20-bioc/R/site-library --timings muleaData_1.2.0.tar.gz StartedAt: 2025-01-30 12:24:34 -0500 (Thu, 30 Jan 2025) EndedAt: 2025-01-30 12:25:02 -0500 (Thu, 30 Jan 2025) EllapsedTime: 27.8 seconds RetCode: 0 Status: WARNINGS CheckDir: muleaData.Rcheck Warnings: 3