Package: mtbls2 Version: 1.36.0 Command: /home/biocbuild/bbs-3.20-bioc/R/bin/R CMD INSTALL mtbls2 StartedAt: 2025-02-11 10:55:36 -0500 (Tue, 11 Feb 2025) EndedAt: 2025-02-11 10:56:11 -0500 (Tue, 11 Feb 2025) EllapsedTime: 34.8 seconds RetCode: 0 Status: OK