Package: msqc1 Version: 1.34.0 Command: /home/biocbuild/bbs-3.20-bioc/R/bin/R CMD check --install=check:msqc1.install-out.txt --library=/home/biocbuild/bbs-3.20-bioc/R/site-library --timings msqc1_1.34.0.tar.gz StartedAt: 2025-04-01 12:21:05 -0400 (Tue, 01 Apr 2025) EndedAt: 2025-04-01 12:22:05 -0400 (Tue, 01 Apr 2025) EllapsedTime: 59.4 seconds RetCode: 0 Status: OK CheckDir: msqc1.Rcheck Warnings: 0