Package: microbiomeDataSets Version: 1.14.0 Command: /home/biocbuild/bbs-3.20-bioc/R/bin/R CMD INSTALL microbiomeDataSets StartedAt: 2025-01-30 11:02:36 -0500 (Thu, 30 Jan 2025) EndedAt: 2025-01-30 11:03:11 -0500 (Thu, 30 Jan 2025) EllapsedTime: 35.2 seconds RetCode: 0 Status: OK