Package: methylclockData Version: 1.14.0 Command: /home/biocbuild/bbs-3.20-bioc/R/bin/R CMD INSTALL methylclockData StartedAt: 2025-02-06 11:04:16 -0500 (Thu, 06 Feb 2025) EndedAt: 2025-02-06 11:04:53 -0500 (Thu, 06 Feb 2025) EllapsedTime: 37.3 seconds RetCode: 0 Status: OK