Package: methylclockData Version: 1.14.0 Command: /home/biocbuild/bbs-3.20-bioc/R/bin/R CMD build --keep-empty-dirs --no-resave-data methylclockData StartedAt: 2025-02-11 11:27:22 -0500 (Tue, 11 Feb 2025) EndedAt: 2025-02-11 11:28:41 -0500 (Tue, 11 Feb 2025) EllapsedTime: 79.0 seconds RetCode: 0 Status: OK PackageFile: methylclockData_1.14.0.tar.gz PackageFileSize: 230.8 KiB