Package: mcsurvdata Version: 1.24.0 Maintainer: Adria Caballe Mestres MaintainerEmail: adria.caballe at irbbarcelona.org git_url: https://git.bioconductor.org/packages/mcsurvdata git_branch: RELEASE_3_20 git_last_commit: 232f9e3 git_last_commit_date: 2024-10-29 09:48:59 -0500 (Tue, 29 Oct 2024)