Package: marinerData Version: 1.6.0 Command: /home/biocbuild/bbs-3.20-bioc/R/bin/R CMD build --keep-empty-dirs --no-resave-data marinerData StartedAt: 2025-01-30 11:26:36 -0500 (Thu, 30 Jan 2025) EndedAt: 2025-01-30 11:27:15 -0500 (Thu, 30 Jan 2025) EllapsedTime: 39.8 seconds RetCode: 0 Status: OK PackageFile: marinerData_1.6.0.tar.gz PackageFileSize: 217.7 KiB