Package: humanStemCell Version: 0.46.0 Command: /home/biocbuild/bbs-3.20-bioc/R/bin/R CMD check --install=check:humanStemCell.install-out.txt --library=/home/biocbuild/bbs-3.20-bioc/R/site-library --timings humanStemCell_0.46.0.tar.gz StartedAt: 2025-01-30 12:13:17 -0500 (Thu, 30 Jan 2025) EndedAt: 2025-01-30 12:13:57 -0500 (Thu, 30 Jan 2025) EllapsedTime: 39.3 seconds RetCode: 0 Status: WARNINGS CheckDir: humanStemCell.Rcheck Warnings: 1