Package: humanStemCell Version: 0.46.0 Command: /home/biocbuild/bbs-3.20-bioc/R/bin/R CMD build --keep-empty-dirs --no-resave-data humanStemCell StartedAt: 2025-01-30 11:24:01 -0500 (Thu, 30 Jan 2025) EndedAt: 2025-01-30 11:25:05 -0500 (Thu, 30 Jan 2025) EllapsedTime: 64.4 seconds RetCode: 0 Status: OK PackageFile: humanStemCell_0.46.0.tar.gz PackageFileSize: 30.64 MiB