Package: harbChIP Version: 1.44.0 Command: /home/biocbuild/bbs-3.20-bioc/R/bin/R CMD build --keep-empty-dirs --no-resave-data harbChIP StartedAt: 2025-02-11 11:20:03 -0500 (Tue, 11 Feb 2025) EndedAt: 2025-02-11 11:20:25 -0500 (Tue, 11 Feb 2025) EllapsedTime: 22.6 seconds RetCode: 0 Status: OK PackageFile: harbChIP_1.44.0.tar.gz PackageFileSize: 7.204 MiB