Package: hapmapsnp5 Version: 1.48.0 Command: /home/biocbuild/bbs-3.20-bioc/R/bin/R CMD build --keep-empty-dirs --no-resave-data hapmapsnp5 StartedAt: 2025-02-06 11:19:08 -0500 (Thu, 06 Feb 2025) EndedAt: 2025-02-06 11:21:00 -0500 (Thu, 06 Feb 2025) EllapsedTime: 112.2 seconds RetCode: 0 Status: OK PackageFile: hapmapsnp5_1.48.0.tar.gz PackageFileSize: 59.41 MiB