Package: hapmap100khind Version: 1.48.0 Command: /home/biocbuild/bbs-3.20-bioc/R/bin/R CMD build --keep-empty-dirs --no-resave-data hapmap100khind StartedAt: 2025-02-06 11:18:48 -0500 (Thu, 06 Feb 2025) EndedAt: 2025-02-06 11:19:46 -0500 (Thu, 06 Feb 2025) EllapsedTime: 57.5 seconds RetCode: 0 Status: OK PackageFile: hapmap100khind_1.48.0.tar.gz PackageFileSize: 38.05 MiB