Package: geneLenDataBase Version: 1.42.0 Command: /home/biocbuild/bbs-3.20-bioc/R/bin/R CMD check --install=check:geneLenDataBase.install-out.txt --library=/home/biocbuild/bbs-3.20-bioc/R/site-library --timings geneLenDataBase_1.42.0.tar.gz StartedAt: 2025-01-30 12:06:53 -0500 (Thu, 30 Jan 2025) EndedAt: 2025-01-30 12:15:44 -0500 (Thu, 30 Jan 2025) EllapsedTime: 531.5 seconds RetCode: 0 Status: OK CheckDir: geneLenDataBase.Rcheck Warnings: 0