Package: geneLenDataBase Version: 1.42.0 Command: /home/biocbuild/bbs-3.20-bioc/R/bin/R CMD build --keep-empty-dirs --no-resave-data geneLenDataBase StartedAt: 2025-01-30 11:18:37 -0500 (Thu, 30 Jan 2025) EndedAt: 2025-01-30 11:19:37 -0500 (Thu, 30 Jan 2025) EllapsedTime: 59.6 seconds RetCode: 0 Status: OK PackageFile: geneLenDataBase_1.42.0.tar.gz PackageFileSize: 95.79 MiB