Package: gcspikelite Version: 1.44.0 Command: /home/biocbuild/bbs-3.20-bioc/R/bin/R CMD build --keep-empty-dirs --no-resave-data gcspikelite StartedAt: 2025-01-30 11:18:24 -0500 (Thu, 30 Jan 2025) EndedAt: 2025-01-30 11:19:17 -0500 (Thu, 30 Jan 2025) EllapsedTime: 53.0 seconds RetCode: 0 Status: OK PackageFile: gcspikelite_1.44.0.tar.gz PackageFileSize: 21.63 MiB