Package: gDNAinRNAseqData Version: 1.6.0 Command: /home/biocbuild/bbs-3.20-bioc/R/bin/R CMD build --keep-empty-dirs --no-resave-data gDNAinRNAseqData StartedAt: 2025-01-30 11:18:25 -0500 (Thu, 30 Jan 2025) EndedAt: 2025-01-30 11:19:13 -0500 (Thu, 30 Jan 2025) EllapsedTime: 47.4 seconds RetCode: 0 Status: OK PackageFile: gDNAinRNAseqData_1.6.0.tar.gz PackageFileSize: 296.3 KiB