Package: flowWorkspaceData Version: 3.18.0 Command: /home/biocbuild/bbs-3.20-bioc/R/bin/R CMD check --install=check:flowWorkspaceData.install-out.txt --library=/home/biocbuild/bbs-3.20-bioc/R/site-library --timings flowWorkspaceData_3.18.0.tar.gz StartedAt: 2025-01-30 12:04:29 -0500 (Thu, 30 Jan 2025) EndedAt: 2025-01-30 12:04:45 -0500 (Thu, 30 Jan 2025) EllapsedTime: 16.0 seconds RetCode: 0 Status: OK CheckDir: flowWorkspaceData.Rcheck Warnings: 0