Package: fibroEset Version: 1.48.0 Command: /home/biocbuild/bbs-3.20-bioc/R/bin/R CMD INSTALL fibroEset StartedAt: 2025-01-30 10:56:23 -0500 (Thu, 30 Jan 2025) EndedAt: 2025-01-30 10:56:27 -0500 (Thu, 30 Jan 2025) EllapsedTime: 3.4 seconds RetCode: 0 Status: OK